BEGIN:VCALENDAR
VERSION:2.0
PRODID:-//AZL Aachen GmbH - ECPv6.9.0//NONSGML v1.0//EN
CALSCALE:GREGORIAN
METHOD:PUBLISH
X-ORIGINAL-URL:https://azl-aachen-gmbh.de
X-WR-CALDESC:Veranstaltungen für AZL Aachen GmbH
REFRESH-INTERVAL;VALUE=DURATION:PT1H
X-Robots-Tag:noindex
X-PUBLISHED-TTL:PT1H
BEGIN:VTIMEZONE
TZID:Europe/Berlin
BEGIN:DAYLIGHT
TZOFFSETFROM:+0100
TZOFFSETTO:+0200
TZNAME:CEST
DTSTART:20240331T010000
END:DAYLIGHT
BEGIN:STANDARD
TZOFFSETFROM:+0200
TZOFFSETTO:+0100
TZNAME:CET
DTSTART:20241027T010000
END:STANDARD
END:VTIMEZONE
BEGIN:VEVENT
DTSTART;TZID=Europe/Berlin:20241127T110000
DTEND;TZID=Europe/Berlin:20241127T160000
DTSTAMP:20260420T123832
CREATED:20240711T115738Z
LAST-MODIFIED:20241031T155940Z
UID:10000056-1732705200-1732723200@azl-aachen-gmbh.de
SUMMARY:2nd Workgroup Meeting "Future Mobility"
DESCRIPTION:Focus TopicsNovel production methods and applications for hydrogen pressure vessels an pipes for electrolysisSafety of composite pressure vesselsJoining Process of TubesMaterials for composite pipes & vesselsFeaturesMarket & Technology MonitoringInsights by Technology ExpertsAgenda11:11Welcome and IntroductionDr. Michael Emonts | AZL Aachen GmbH11:30Market & Technology Screening of Composite Pipes and VesselsSimon Greive | Aachen Center for integrative Lightweight Production – AZL12:00This Tube Isn’t Going to Join Itself: Designing Interfaces for Pressure\, Load\, and Fluid TransferLucas Ciccarelli | Alformet GmbH12:30Thermoplastic lined FRP piping for Electrolysis plantVijay Rajpurohit | Chemical Process Piping Pvt. Ltd. (CPP India)13:00Fully Utilizing Materials – Design of highly stressed pipes made from fiber-reinforced thermoplastics\, considering material non-linearitiesDr. Tobias Donhauser | fiberior GmbH13:30Networking Lunch  14:30Better with age? Impact of creep phenomena on the safety of composite pressure vesselsBartosz Popiela | Bundesanstalt für Materialforschung und -prüfung15:00Scaling up Filament Winding for large serial productionDr. Andreas Reimann | Roth Composite Machinery GmbH15:30Wing-integrated Type IV hydrogen tanks with a high degree of slendernessMartin Semsch | KVB Institut für Konstruktion und Verbundbauweisen16:00Discussion and Closing Remarks  RegistrationRegistration is required for all AZL partners via Partner Section
URL:https://azl-aachen-gmbh.de/event/2nd-workgroup-meeting-future-mobility/
LOCATION:AZL Office Hub\, Campus Boulevard 30\, Aachen\, 52074\, Germany
CATEGORIES:Workgroup
ATTACH;FMTTYPE=image/jpeg:https://azl-aachen-gmbh.de/wp-content/uploads/2023/10/Key-Visual_FuM_2024-02.jpg
END:VEVENT
BEGIN:VEVENT
DTSTART;TZID=Europe/Berlin:20241112T110000
DTEND;TZID=Europe/Berlin:20241112T154500
DTSTAMP:20260420T123832
CREATED:20240711T095936Z
LAST-MODIFIED:20240924T095420Z
UID:10000052-1731409200-1731426300@azl-aachen-gmbh.de
SUMMARY:19th Workgroup Meeting "Composite Pipes & Vessels"
DESCRIPTION:Focus TopicsNovel production methods and applications for hydrogen pressure vessels an pipes for electrolysisSafety of composite pressure vesselsJoining Process of TubesMaterials for composite pipes & vesselsFeaturesMarket & Technology MonitoringInsights by Technology ExpertsAgenda11:11Welcome and IntroductionDr. Michael Emonts | AZL Aachen GmbH11:30Market & Technology Screening of Composite Pipes and VesselsSimon Greive | Aachen Center for integrative Lightweight Production – AZL12:00This Tube Isn’t Going to Join Itself: Designing Interfaces for Pressure\, Load\, and Fluid TransferLucas Ciccarelli | Alformet GmbH12:30Thermoplastic lined FRP piping for Electrolysis plantVijay Rajpurohit | Chemical Process Piping Pvt. Ltd. (CPP India)13:00Fully Utilizing Materials – Design of highly stressed pipes made from fiber-reinforced thermoplastics\, considering material non-linearitiesDr. Tobias Donhauser | fiberior GmbH13:30Networking Lunch  14:30Better with age? Impact of creep phenomena on the safety of composite pressure vesselsBartosz Popiela | Bundesanstalt für Materialforschung und -prüfung15:00Scaling up Filament Winding for large serial productionDr. Andreas Reimann | Roth Composite Machinery GmbH15:30Wing-integrated Type IV hydrogen tanks with a high degree of slendernessMartin Semsch | KVB Institut für Konstruktion und Verbundbauweisen16:00Discussion and Closing Remarks  RegistrationRegistration is required for all AZL partners via Partner Section
URL:https://azl-aachen-gmbh.de/event/composite-pipes-vessels-19th-workgroup-meeting/
LOCATION:AZL Office Hub\, Campus Boulevard 30\, Aachen\, 52074\, Germany
CATEGORIES:Workgroup
ATTACH;FMTTYPE=image/jpeg:https://azl-aachen-gmbh.de/wp-content/uploads/2023/12/Key-Visual_PV_2024-02-scaled-e1713948363407.jpg
END:VEVENT
BEGIN:VEVENT
DTSTART;TZID=Europe/Berlin:20241008T110000
DTEND;TZID=Europe/Berlin:20241008T160000
DTSTAMP:20260420T123832
CREATED:20240711T095801Z
LAST-MODIFIED:20241121T085231Z
UID:10000051-1728385200-1728403200@azl-aachen-gmbh.de
SUMMARY:14th Workgroup Meeting "Composites in Buildings and Infrastructure"
DESCRIPTION:Focus TopicsNovel production methods and applications for hydrogen pressure vessels an pipes for electrolysisSafety of composite pressure vesselsJoining Process of TubesMaterials for composite pipes & vesselsFeaturesMarket & Technology MonitoringInsights by Technology ExpertsAgenda11:11Welcome and IntroductionDr. Michael Emonts | AZL Aachen GmbH11:30Market & Technology Screening of Composite Pipes and VesselsSimon Greive | Aachen Center for integrative Lightweight Production – AZL12:00This Tube Isn’t Going to Join Itself: Designing Interfaces for Pressure\, Load\, and Fluid TransferLucas Ciccarelli | Alformet GmbH12:30Thermoplastic lined FRP piping for Electrolysis plantVijay Rajpurohit | Chemical Process Piping Pvt. Ltd. (CPP India)13:00Fully Utilizing Materials – Design of highly stressed pipes made from fiber-reinforced thermoplastics\, considering material non-linearitiesDr. Tobias Donhauser | fiberior GmbH13:30Networking Lunch  14:30Better with age? Impact of creep phenomena on the safety of composite pressure vesselsBartosz Popiela | Bundesanstalt für Materialforschung und -prüfung15:00Scaling up Filament Winding for large serial productionDr. Andreas Reimann | Roth Composite Machinery GmbH15:30Wing-integrated Type IV hydrogen tanks with a high degree of slendernessMartin Semsch | KVB Institut für Konstruktion und Verbundbauweisen16:00Discussion and Closing Remarks  RegistrationRegistration is required for all AZL partners via Partner Section
URL:https://azl-aachen-gmbh.de/event/14th-workgroup-meeting-composites-in-buildings-and-infrastructure/
LOCATION:AZL Office Hub\, Campus Boulevard 30\, Aachen\, 52074\, Germany
CATEGORIES:Workgroup
ATTACH;FMTTYPE=image/jpeg:https://azl-aachen-gmbh.de/wp-content/uploads/2023/12/Key-Visual_BI_2024-02-scaled.jpg
END:VEVENT
BEGIN:VEVENT
DTSTART;TZID=Europe/Berlin:20240319T110000
DTEND;TZID=Europe/Berlin:20240319T140000
DTSTAMP:20260420T123832
CREATED:20240221T111123Z
LAST-MODIFIED:20240221T141244Z
UID:10000025-1710846000-1710856800@azl-aachen-gmbh.de
SUMMARY:13th Workgroup Meeting "Composites in Buildings and Infrastructure"
DESCRIPTION:Focus TopicsNovel production methods and applications for hydrogen pressure vessels an pipes for electrolysisSafety of composite pressure vesselsJoining Process of TubesMaterials for composite pipes & vesselsFeaturesMarket & Technology MonitoringInsights by Technology ExpertsAgenda11:11Welcome and IntroductionDr. Michael Emonts | AZL Aachen GmbH11:30Market & Technology Screening of Composite Pipes and VesselsSimon Greive | Aachen Center for integrative Lightweight Production – AZL12:00This Tube Isn’t Going to Join Itself: Designing Interfaces for Pressure\, Load\, and Fluid TransferLucas Ciccarelli | Alformet GmbH12:30Thermoplastic lined FRP piping for Electrolysis plantVijay Rajpurohit | Chemical Process Piping Pvt. Ltd. (CPP India)13:00Fully Utilizing Materials – Design of highly stressed pipes made from fiber-reinforced thermoplastics\, considering material non-linearitiesDr. Tobias Donhauser | fiberior GmbH13:30Networking Lunch  14:30Better with age? Impact of creep phenomena on the safety of composite pressure vesselsBartosz Popiela | Bundesanstalt für Materialforschung und -prüfung15:00Scaling up Filament Winding for large serial productionDr. Andreas Reimann | Roth Composite Machinery GmbH15:30Wing-integrated Type IV hydrogen tanks with a high degree of slendernessMartin Semsch | KVB Institut für Konstruktion und Verbundbauweisen16:00Discussion and Closing Remarks  RegistrationRegistration is required for all AZL partners via Partner Section
URL:https://azl-aachen-gmbh.de/event/13th-workgroup-meeting-composites-in-buildings-and-infrastructure/
CATEGORIES:Workgroup
ATTACH;FMTTYPE=image/jpeg:https://azl-aachen-gmbh.de/wp-content/uploads/2023/12/Key-Visual_BI_2024-02-scaled.jpg
END:VEVENT
END:VCALENDAR