BEGIN:VCALENDAR
VERSION:2.0
PRODID:-//AZL Aachen GmbH - ECPv6.9.0//NONSGML v1.0//EN
CALSCALE:GREGORIAN
METHOD:PUBLISH
X-ORIGINAL-URL:https://azl-aachen-gmbh.de
X-WR-CALDESC:Veranstaltungen für AZL Aachen GmbH
REFRESH-INTERVAL;VALUE=DURATION:PT1H
X-Robots-Tag:noindex
X-PUBLISHED-TTL:PT1H
BEGIN:VTIMEZONE
TZID:Europe/Berlin
BEGIN:DAYLIGHT
TZOFFSETFROM:+0100
TZOFFSETTO:+0200
TZNAME:CEST
DTSTART:20250330T010000
END:DAYLIGHT
BEGIN:STANDARD
TZOFFSETFROM:+0200
TZOFFSETTO:+0100
TZNAME:CET
DTSTART:20251026T010000
END:STANDARD
END:VTIMEZONE
BEGIN:VEVENT
DTSTART;TZID=Europe/Berlin:20251111T080000
DTEND;TZID=Europe/Berlin:20251111T160000
DTSTAMP:20260422T145134
CREATED:20241121T101028Z
LAST-MODIFIED:20260317T122817Z
UID:10000099-1762848000-1762876800@azl-aachen-gmbh.de
SUMMARY:21st Workgroup Meeting "Composite Pipes & Vessels"
DESCRIPTION:Venue\nOn-Site @AZL Hub in AachenBuilding Part 3B\, 4th FloorCampus Boulevard 3052074 Aachen \nTime\nNovember 26th\, 2026 \nRegistration\n\n\n\n\n\n\n\n\n\nRegistration is required for all AZL partners via Partner Section.
URL:https://azl-aachen-gmbh.de/event/21st-workgroup-meeting-composite-pipes-vessels/
LOCATION:AZL Office Hub\, Campus Boulevard 30\, Aachen\, 52074\, Germany
CATEGORIES:Workgroup
ATTACH;FMTTYPE=image/jpeg:https://azl-aachen-gmbh.de/wp-content/uploads/2023/12/Key-Visual_PV_2024-02-scaled-e1713948363407.jpg
END:VEVENT
BEGIN:VEVENT
DTSTART;TZID=Europe/Berlin:20251112T110000
DTEND;TZID=Europe/Berlin:20251112T143000
DTSTAMP:20260422T145134
CREATED:20241121T101406Z
LAST-MODIFIED:20251021T100316Z
UID:10000101-1762945200-1762957800@azl-aachen-gmbh.de
SUMMARY:16th Workgroup Meeting "Composites in Buildings and Infrastructure"
DESCRIPTION:Venue\nOn-Site @AZL Hub in AachenBuilding Part 3B\, 4th FloorCampus Boulevard 3052074 Aachen \nTime\nNovember 26th\, 2026 \nRegistration\n\n\n\n\n\n\n\n\n\nRegistration is required for all AZL partners via Partner Section.
URL:https://azl-aachen-gmbh.de/event/16th-workgroup-meeting-composites-in-buildings-and-infrastructure/
LOCATION:Zoom-Meeting\, Online Session\, The link will be sent shortly before the meeting
CATEGORIES:Workgroup
ATTACH;FMTTYPE=image/jpeg:https://azl-aachen-gmbh.de/wp-content/uploads/2023/12/Key-Visual_BI_2024-02-scaled.jpg
END:VEVENT
BEGIN:VEVENT
DTSTART;TZID=Europe/Berlin:20251126T110000
DTEND;TZID=Europe/Berlin:20251126T160000
DTSTAMP:20260422T145134
CREATED:20241121T100329Z
LAST-MODIFIED:20251124T094439Z
UID:10000097-1764154800-1764172800@azl-aachen-gmbh.de
SUMMARY:21st Workgroup Meeting "Hybrid Thermoplastic Composites"
DESCRIPTION:Venue\nOn-Site @AZL Hub in AachenBuilding Part 3B\, 4th FloorCampus Boulevard 3052074 Aachen \nTime\nNovember 26th\, 2026 \nRegistration\n\n\n\n\n\n\n\n\n\nRegistration is required for all AZL partners via Partner Section.
URL:https://azl-aachen-gmbh.de/event/21st-workgroup-meeting-hybrid-thermoplastic-composites/
LOCATION:AZL Office Hub\, Campus Boulevard 30\, Aachen\, 52074\, Germany
CATEGORIES:Workgroup
ATTACH;FMTTYPE=image/jpeg:https://azl-aachen-gmbh.de/wp-content/uploads/2024/07/Key_Visual_HTC_2024-07.jpg
END:VEVENT
BEGIN:VEVENT
DTSTART;TZID=Europe/Berlin:20251127T110000
DTEND;TZID=Europe/Berlin:20251127T160000
DTSTAMP:20260422T145134
CREATED:20241121T100022Z
LAST-MODIFIED:20251124T094115Z
UID:10000095-1764241200-1764259200@azl-aachen-gmbh.de
SUMMARY:4th Workgroup Meeting "Future Mobility"
DESCRIPTION:Venue\nOn-Site @AZL Hub in AachenBuilding Part 3B\, 4th FloorCampus Boulevard 3052074 Aachen \nTime\nNovember 26th\, 2026 \nRegistration\n\n\n\n\n\n\n\n\n\nRegistration is required for all AZL partners via Partner Section.
URL:https://azl-aachen-gmbh.de/event/4th-workgroup-meeting-future-mobility/
LOCATION:AZL Office Hub\, Campus Boulevard 30\, Aachen\, 52074\, Germany
CATEGORIES:Workgroup
ATTACH;FMTTYPE=image/jpeg:https://azl-aachen-gmbh.de/wp-content/uploads/2023/10/Key-Visual_FuM_2024-02.jpg
END:VEVENT
END:VCALENDAR