BEGIN:VCALENDAR
VERSION:2.0
PRODID:-//AZL Aachen GmbH - ECPv6.9.0//NONSGML v1.0//EN
CALSCALE:GREGORIAN
METHOD:PUBLISH
X-WR-CALNAME:AZL Aachen GmbH
X-ORIGINAL-URL:https://azl-aachen-gmbh.de
X-WR-CALDESC:Veranstaltungen für AZL Aachen GmbH
REFRESH-INTERVAL;VALUE=DURATION:PT1H
X-Robots-Tag:noindex
X-PUBLISHED-TTL:PT1H
BEGIN:VTIMEZONE
TZID:Europe/Berlin
BEGIN:DAYLIGHT
TZOFFSETFROM:+0100
TZOFFSETTO:+0200
TZNAME:CEST
DTSTART:20240331T010000
END:DAYLIGHT
BEGIN:STANDARD
TZOFFSETFROM:+0200
TZOFFSETTO:+0100
TZNAME:CET
DTSTART:20241027T010000
END:STANDARD
END:VTIMEZONE
BEGIN:VEVENT
DTSTART;TZID=Europe/Berlin:20241009T100000
DTEND;TZID=Europe/Berlin:20241009T103000
DTSTAMP:20260419T170903
CREATED:20240926T091952Z
LAST-MODIFIED:20240927T222443Z
UID:10000074-1728468000-1728469800@azl-aachen-gmbh.de
SUMMARY:Webinar on Joint Partner Project "Rotor Sleeves for Electric Motors"
DESCRIPTION:ContentThese sessions will provide insights into current market insights\, relevant application areas\, and key technology trends in buildings and infrastructure and introduce the new Jour new global joint market & technology study and discuss where the biggest opportunities could be. RegistrationThe Webinar is open to all interested participants.Registration is required for all participants (AZL partners & non-AZL partners) via the form below
URL:https://azl-aachen-gmbh.de/event/webinar-rotor-sleeves-for-electric-motors/
LOCATION:Zoom-Meeting\, Online Session\, The link will be sent shortly before the meeting
CATEGORIES:Webinar
END:VEVENT
END:VCALENDAR