BEGIN:VCALENDAR
VERSION:2.0
PRODID:-//AZL Aachen GmbH - ECPv6.9.0//NONSGML v1.0//EN
CALSCALE:GREGORIAN
METHOD:PUBLISH
X-WR-CALNAME:AZL Aachen GmbH
X-ORIGINAL-URL:https://azl-aachen-gmbh.de
X-WR-CALDESC:Veranstaltungen für AZL Aachen GmbH
REFRESH-INTERVAL;VALUE=DURATION:PT1H
X-Robots-Tag:noindex
X-PUBLISHED-TTL:PT1H
BEGIN:VTIMEZONE
TZID:Europe/Berlin
BEGIN:DAYLIGHT
TZOFFSETFROM:+0100
TZOFFSETTO:+0200
TZNAME:CEST
DTSTART:20250330T010000
END:DAYLIGHT
BEGIN:STANDARD
TZOFFSETFROM:+0200
TZOFFSETTO:+0100
TZNAME:CET
DTSTART:20251026T010000
END:STANDARD
END:VTIMEZONE
BEGIN:VEVENT
DTSTART;TZID=Europe/Berlin:20250408T110000
DTEND;TZID=Europe/Berlin:20250408T160000
DTSTAMP:20260424T121539
CREATED:20241121T085814Z
LAST-MODIFIED:20250326T090729Z
UID:5357-1744110000-1744128000@azl-aachen-gmbh.de
SUMMARY:3rd Workgroup Meeting "Future Mobility"
DESCRIPTION:Key Topics… more information will follow soon. 								\n				\n				\n				\n									Agenda… more information will follow soon. 								\n				\n				\n				\n									RegistrationRegistration is required for all AZL partners via Partner Section.
URL:https://azl-aachen-gmbh.de/event/3rd-workgroup-meeting-future-mobility/
LOCATION:Zoom-Meeting\, Online Session\, The link will be sent shortly before the meeting
CATEGORIES:Workgroup
ATTACH;FMTTYPE=image/jpeg:https://azl-aachen-gmbh.de/wp-content/uploads/2023/10/Key-Visual_FuM_2024-02.jpg
END:VEVENT
END:VCALENDAR