BEGIN:VCALENDAR
VERSION:2.0
PRODID:-//AZL Aachen GmbH - ECPv6.9.0//NONSGML v1.0//EN
CALSCALE:GREGORIAN
METHOD:PUBLISH
X-WR-CALNAME:AZL Aachen GmbH
X-ORIGINAL-URL:https://azl-aachen-gmbh.de
X-WR-CALDESC:Events for AZL Aachen GmbH
REFRESH-INTERVAL;VALUE=DURATION:PT1H
X-Robots-Tag:noindex
X-PUBLISHED-TTL:PT1H
BEGIN:VTIMEZONE
TZID:Europe/Berlin
BEGIN:DAYLIGHT
TZOFFSETFROM:+0100
TZOFFSETTO:+0200
TZNAME:CEST
DTSTART:20260329T010000
END:DAYLIGHT
BEGIN:STANDARD
TZOFFSETFROM:+0200
TZOFFSETTO:+0100
TZNAME:CET
DTSTART:20261025T010000
END:STANDARD
END:VTIMEZONE
BEGIN:VEVENT
DTSTART;TZID=Europe/Berlin:20260506T110000
DTEND;TZID=Europe/Berlin:20260506T170000
DTSTAMP:20260422T135929
CREATED:20250902T081105Z
LAST-MODIFIED:20260317T122205Z
UID:10000150-1778065200-1778086800@azl-aachen-gmbh.de
SUMMARY:22nd Workgroup Meeting "Composite Pipes & Vessels"
DESCRIPTION:Venue\nOn-Site @AZL Hub in AachenBuilding Part 3B\, 4th FloorCampus Boulevard 3052074 Aachen \nTime\nNovember 26th\, 2026 \nRegistration\n\n\n\n\n\n\n\n\n\nRegistration is required for all AZL partners via Partner Section.
URL:https://azl-aachen-gmbh.de/event/22nd-workgroup-meeting-composite-pipes-vessels-en/
LOCATION:AZL Office Hub\, Campus Boulevard 30\, Aachen\, 52074\, Germany
CATEGORIES:Workgroup
ATTACH;FMTTYPE=image/jpeg:https://azl-aachen-gmbh.de/wp-content/uploads/2023/12/Key-Visual_PV_2024-02-scaled-e1713948363407.jpg
END:VEVENT
BEGIN:VEVENT
DTSTART;TZID=Europe/Berlin:20260507T110000
DTEND;TZID=Europe/Berlin:20260507T160000
DTSTAMP:20260422T135929
CREATED:20250902T081631Z
LAST-MODIFIED:20260331T084444Z
UID:10000152-1778151600-1778169600@azl-aachen-gmbh.de
SUMMARY:22nd Workgroup Meeting "Hybrid Thermoplastic Composites"
DESCRIPTION:Venue\nOn-Site @AZL Hub in AachenBuilding Part 3B\, 4th FloorCampus Boulevard 3052074 Aachen \nTime\nNovember 26th\, 2026 \nRegistration\n\n\n\n\n\n\n\n\n\nRegistration is required for all AZL partners via Partner Section.
URL:https://azl-aachen-gmbh.de/event/22nd-workgroup-meeting-hybrid-thermoplastic-composites-en/
LOCATION:AZL Office Hub\, Campus Boulevard 30\, Aachen\, 52074\, Germany
CATEGORIES:Workgroup
ATTACH;FMTTYPE=image/jpeg:https://azl-aachen-gmbh.de/wp-content/uploads/2024/07/Key_Visual_HTC_2024-07.jpg
END:VEVENT
BEGIN:VEVENT
DTSTART;TZID=Europe/Berlin:20260519T110000
DTEND;TZID=Europe/Berlin:20260519T160000
DTSTAMP:20260422T135929
CREATED:20250902T082018Z
LAST-MODIFIED:20260421T091900Z
UID:10000154-1779188400-1779206400@azl-aachen-gmbh.de
SUMMARY:17th Workgroup Meeting "Composites in Buildings and Infrastructure"
DESCRIPTION:Venue\nOn-Site @AZL Hub in AachenBuilding Part 3B\, 4th FloorCampus Boulevard 3052074 Aachen \nTime\nNovember 26th\, 2026 \nRegistration\n\n\n\n\n\n\n\n\n\nRegistration is required for all AZL partners via Partner Section.
URL:https://azl-aachen-gmbh.de/event/17th-workgroup-meeting-composites-in-buildings-and-infrastructure-en/
LOCATION:AZL Office Hub\, Campus Boulevard 30\, Aachen\, 52074\, Germany
CATEGORIES:Workgroup
ATTACH;FMTTYPE=image/jpeg:https://azl-aachen-gmbh.de/wp-content/uploads/2023/12/Key-Visual_BI_2024-02-scaled.jpg
END:VEVENT
END:VCALENDAR